Package: RCM Version: 1.20.0 Command: rm -rf RCM.buildbin-libdir && mkdir RCM.buildbin-libdir && /Users/biocbuild/BBS/utils/build-universal.sh RCM_1.20.0.tar.gz /Library/Frameworks/R.framework/Resources/bin/R RCM.buildbin-libdir StartedAt: 2024-06-11 12:43:18 -0400 (Tue, 11 Jun 2024) EndedAt: 2024-06-11 12:44:06 -0400 (Tue, 11 Jun 2024) EllapsedTime: 47.8 seconds RetCode: 0 Status: OK PackageFile: RCM_1.20.0.tgz PackageFileSize: 5.058 MiB