Package: RCM Version: 1.20.0 Command: /Library/Frameworks/R.framework/Resources/bin/R CMD INSTALL RCM StartedAt: 2024-06-09 17:03:45 -0400 (Sun, 09 Jun 2024) EndedAt: 2024-06-09 17:04:22 -0400 (Sun, 09 Jun 2024) EllapsedTime: 37.1 seconds RetCode: 0 Status: OK