Package: RCM Version: 1.20.0 Command: /home/biocbuild/R/R-beta-2024-04-15_r86425/bin/R CMD build --keep-empty-dirs --no-resave-data RCM StartedAt: 2024-05-09 02:50:57 -0000 (Thu, 09 May 2024) EndedAt: 2024-05-09 02:52:14 -0000 (Thu, 09 May 2024) EllapsedTime: 77.1 seconds RetCode: 0 Status: OK PackageFile: RCM_1.20.0.tar.gz PackageFileSize: 3.133 MiB