Package: RCM Version: 1.20.0 Command: /home/biocbuild/R/R-beta-2024-04-15_r86425/bin/R CMD check --install=check:RCM.install-out.txt --library=/home/biocbuild/R/R-beta-2024-04-15_r86425/site-library --no-vignettes --timings RCM_1.20.0.tar.gz StartedAt: 2024-05-09 11:00:38 -0000 (Thu, 09 May 2024) EndedAt: 2024-05-09 11:06:27 -0000 (Thu, 09 May 2024) EllapsedTime: 349.7 seconds RetCode: 0 Status: OK CheckDir: RCM.Rcheck Warnings: 0