Package: RCM Version: 1.20.0 Command: /home/biocbuild/bbs-3.19-bioc/R/bin/R CMD INSTALL RCM StartedAt: 2024-10-16 16:33:12 -0400 (Wed, 16 Oct 2024) EndedAt: 2024-10-16 16:33:34 -0400 (Wed, 16 Oct 2024) EllapsedTime: 22.1 seconds RetCode: 0 Status: OK