Package: RCM Version: 1.20.0 Command: rm -rf RCM.buildbin-libdir && mkdir RCM.buildbin-libdir && E:\biocbuild\bbs-3.19-bioc\R\bin\R.exe CMD INSTALL --build --library=RCM.buildbin-libdir RCM_1.20.0.tar.gz StartedAt: 2024-10-17 08:26:24 -0400 (Thu, 17 Oct 2024) EndedAt: 2024-10-17 08:27:12 -0400 (Thu, 17 Oct 2024) EllapsedTime: 48.1 seconds RetCode: 0 Status: OK PackageFile: RCM_1.20.0.zip PackageFileSize: 3.399 MiB