Package: RCM Version: 1.20.0 Command: chmod a+r RCM -R && E:\biocbuild\bbs-3.19-bioc\R\bin\R.exe CMD build --keep-empty-dirs --no-resave-data RCM StartedAt: 2024-10-16 21:24:51 -0400 (Wed, 16 Oct 2024) EndedAt: 2024-10-16 21:26:22 -0400 (Wed, 16 Oct 2024) EllapsedTime: 91.0 seconds RetCode: 0 Status: OK PackageFile: RCM_1.20.0.tar.gz PackageFileSize: 3.16 MiB