Package: RCSL Version: 1.12.0 Command: /Library/Frameworks/R.framework/Resources/bin/R CMD build --keep-empty-dirs --no-resave-data RCSL StartedAt: 2024-10-16 22:26:21 -0400 (Wed, 16 Oct 2024) EndedAt: 2024-10-16 22:27:31 -0400 (Wed, 16 Oct 2024) EllapsedTime: 69.9 seconds RetCode: 0 Status: OK PackageFile: RCSL_1.12.0.tar.gz PackageFileSize: 1.986 MiB