Package: RCX Version: 1.8.0 Command: /Library/Frameworks/R.framework/Resources/bin/R CMD build --keep-empty-dirs --no-resave-data RCX StartedAt: 2024-10-16 22:26:28 -0400 (Wed, 16 Oct 2024) EndedAt: 2024-10-16 22:27:37 -0400 (Wed, 16 Oct 2024) EllapsedTime: 69.4 seconds RetCode: 0 Status: OK PackageFile: RCX_1.8.0.tar.gz PackageFileSize: 4.573 MiB