Package: RCX Version: 1.8.0 Command: /home/biocbuild/bbs-3.19-bioc/R/bin/R CMD build --keep-empty-dirs --no-resave-data RCX StartedAt: 2024-10-16 20:21:22 -0400 (Wed, 16 Oct 2024) EndedAt: 2024-10-16 20:21:45 -0400 (Wed, 16 Oct 2024) EllapsedTime: 22.1 seconds RetCode: 0 Status: OK PackageFile: RCX_1.8.0.tar.gz PackageFileSize: 4.574 MiB