Package: REBET Version: 1.22.0 Command: /Library/Frameworks/R.framework/Resources/bin/R CMD build --keep-empty-dirs --no-resave-data REBET StartedAt: 2024-10-17 07:19:34 -0400 (Thu, 17 Oct 2024) EndedAt: 2024-10-17 07:19:54 -0400 (Thu, 17 Oct 2024) EllapsedTime: 20.5 seconds RetCode: 0 Status: OK PackageFile: REBET_1.22.0.tar.gz PackageFileSize: 310.5 KiB