Package: REBET Version: 1.22.0 Command: rm -rf REBET.buildbin-libdir && mkdir REBET.buildbin-libdir && /Users/biocbuild/BBS/utils/build-universal.sh REBET_1.22.0.tar.gz /Library/Frameworks/R.framework/Resources/bin/R REBET.buildbin-libdir StartedAt: 2024-06-10 00:34:34 -0400 (Mon, 10 Jun 2024) EndedAt: 2024-06-10 00:34:45 -0400 (Mon, 10 Jun 2024) EllapsedTime: 10.1 seconds RetCode: 0 Status: OK PackageFile: REBET_1.22.0.tgz PackageFileSize: 331.4 KiB