Package: REBET Version: 1.22.0 Command: /home/biocbuild/bbs-3.19-bioc/R/bin/R CMD build --keep-empty-dirs --no-resave-data REBET StartedAt: 2024-10-16 20:21:59 -0400 (Wed, 16 Oct 2024) EndedAt: 2024-10-16 20:22:10 -0400 (Wed, 16 Oct 2024) EllapsedTime: 11.0 seconds RetCode: 0 Status: OK PackageFile: REBET_1.22.0.tar.gz PackageFileSize: 204.9 KiB