Package: RESOLVE Version: 1.6.0 Command: /home/biocbuild/R/R-beta-2024-04-15_r86425/bin/R CMD build --keep-empty-dirs --no-resave-data RESOLVE StartedAt: 2024-05-09 02:57:24 -0000 (Thu, 09 May 2024) EndedAt: 2024-05-09 02:58:43 -0000 (Thu, 09 May 2024) EllapsedTime: 79.1 seconds RetCode: 0 Status: OK PackageFile: RESOLVE_1.6.0.tar.gz PackageFileSize: 785.2 KiB