Package: RESOLVE Version: 1.6.0 Command: rm -rf RESOLVE.buildbin-libdir && mkdir RESOLVE.buildbin-libdir && /Users/biocbuild/BBS/utils/build-universal.sh RESOLVE_1.6.0.tar.gz /Library/Frameworks/R.framework/Resources/bin/R RESOLVE.buildbin-libdir StartedAt: 2024-06-10 00:35:02 -0400 (Mon, 10 Jun 2024) EndedAt: 2024-06-10 00:35:55 -0400 (Mon, 10 Jun 2024) EllapsedTime: 52.9 seconds RetCode: 0 Status: OK PackageFile: RESOLVE_1.6.0.tgz PackageFileSize: 887.7 KiB