Package: RESOLVE Version: 1.6.0 Command: chmod a+r RESOLVE -R && F:\biocbuild\bbs-3.19-bioc\R\bin\R.exe CMD build --keep-empty-dirs --no-resave-data RESOLVE StartedAt: 2024-06-26 21:21:08 -0400 (Wed, 26 Jun 2024) EndedAt: 2024-06-26 21:26:54 -0400 (Wed, 26 Jun 2024) EllapsedTime: 346.2 seconds RetCode: 0 Status: OK PackageFile: RESOLVE_1.6.0.tar.gz PackageFileSize: 717.5 KiB