Package: RESOLVE Version: 1.6.0 Command: rm -rf RESOLVE.buildbin-libdir && mkdir RESOLVE.buildbin-libdir && E:\biocbuild\bbs-3.19-bioc\R\bin\R.exe CMD INSTALL --build --library=RESOLVE.buildbin-libdir RESOLVE_1.6.0.tar.gz StartedAt: 2024-10-17 08:28:37 -0400 (Thu, 17 Oct 2024) EndedAt: 2024-10-17 08:29:27 -0400 (Thu, 17 Oct 2024) EllapsedTime: 50.1 seconds RetCode: 0 Status: OK PackageFile: RESOLVE_1.6.0.zip PackageFileSize: 872.6 KiB