Package: RIPAT Version: 1.14.0 Command: /home/biocbuild/R/R-beta-2024-04-15_r86425/bin/R CMD build --keep-empty-dirs --no-resave-data RIPAT StartedAt: 2024-05-09 03:02:04 -0000 (Thu, 09 May 2024) EndedAt: 2024-05-09 03:13:02 -0000 (Thu, 09 May 2024) EllapsedTime: 657.9 seconds RetCode: 0 Status: OK PackageFile: RIPAT_1.14.0.tar.gz PackageFileSize: 4.313 MiB