Package: RIPAT Version: 1.14.0 Command: /home/biocbuild/R/R-beta-2024-04-15_r86425/bin/R CMD check --install=check:RIPAT.install-out.txt --library=/home/biocbuild/R/R-beta-2024-04-15_r86425/site-library --no-vignettes --timings RIPAT_1.14.0.tar.gz StartedAt: 2024-05-09 11:14:21 -0000 (Thu, 09 May 2024) EndedAt: 2024-05-09 11:16:03 -0000 (Thu, 09 May 2024) EllapsedTime: 102.2 seconds RetCode: 0 Status: OK CheckDir: RIPAT.Rcheck Warnings: 0