Package: RIPAT Version: 1.14.0 Command: /home/biocbuild/R/R-beta-2024-04-15_r86425/bin/R CMD INSTALL RIPAT StartedAt: 2024-05-08 21:02:35 -0000 (Wed, 08 May 2024) EndedAt: 2024-05-08 21:02:40 -0000 (Wed, 08 May 2024) EllapsedTime: 5.3 seconds RetCode: 0 Status: OK