Package: RIPAT Version: 1.14.0 Command: /Library/Frameworks/R.framework/Resources/bin/R CMD build --keep-empty-dirs --no-resave-data RIPAT StartedAt: 2024-06-09 17:55:48 -0400 (Sun, 09 Jun 2024) EndedAt: 2024-06-09 18:07:48 -0400 (Sun, 09 Jun 2024) EllapsedTime: 719.5 seconds RetCode: 0 Status: OK PackageFile: RIPAT_1.14.0.tar.gz PackageFileSize: 4.414 MiB