Package: RIPAT Version: 1.14.0 Command: rm -rf RIPAT.buildbin-libdir && mkdir RIPAT.buildbin-libdir && F:\biocbuild\bbs-3.19-bioc\R\bin\R.exe CMD INSTALL --build --library=RIPAT.buildbin-libdir RIPAT_1.14.0.tar.gz StartedAt: 2024-06-27 08:47:44 -0400 (Thu, 27 Jun 2024) EndedAt: 2024-06-27 08:47:55 -0400 (Thu, 27 Jun 2024) EllapsedTime: 11.0 seconds RetCode: 0 Status: OK PackageFile: RIPAT_1.14.0.zip PackageFileSize: 2.547 MiB