Package: RITAN Version: 1.28.0 Command: rm -rf RITAN.buildbin-libdir && mkdir RITAN.buildbin-libdir && /Users/biocbuild/BBS/utils/build-universal.sh RITAN_1.28.0.tar.gz /Library/Frameworks/R.framework/Resources/bin/R RITAN.buildbin-libdir StartedAt: 2024-10-18 20:21:29 -0400 (Fri, 18 Oct 2024) EndedAt: 2024-10-18 20:22:34 -0400 (Fri, 18 Oct 2024) EllapsedTime: 65.0 seconds RetCode: 0 Status: OK PackageFile: RITAN_1.28.0.tgz PackageFileSize: 971.5 KiB