Package: RITAN Version: 1.28.0 Command: /Library/Frameworks/R.framework/Resources/bin/R CMD INSTALL RITAN StartedAt: 2024-10-16 16:57:47 -0400 (Wed, 16 Oct 2024) EndedAt: 2024-10-16 16:58:38 -0400 (Wed, 16 Oct 2024) EllapsedTime: 51.3 seconds RetCode: 0 Status: OK