Package: RITAN Version: 1.28.0 Command: /Library/Frameworks/R.framework/Resources/bin/R CMD check --install=check:RITAN.install-out.txt --library=/Library/Frameworks/R.framework/Resources/library --no-vignettes --timings RITAN_1.28.0.tar.gz StartedAt: 2024-06-11 03:16:45 -0400 (Tue, 11 Jun 2024) EndedAt: 2024-06-11 03:25:26 -0400 (Tue, 11 Jun 2024) EllapsedTime: 520.4 seconds RetCode: 0 Status: WARNINGS CheckDir: RITAN.Rcheck Warnings: 1