Package: RITAN Version: 1.28.0 Command: /Library/Frameworks/R.framework/Resources/bin/R CMD build --keep-empty-dirs --no-resave-data RITAN StartedAt: 2024-10-16 22:37:00 -0400 (Wed, 16 Oct 2024) EndedAt: 2024-10-16 22:41:27 -0400 (Wed, 16 Oct 2024) EllapsedTime: 266.4 seconds RetCode: 0 Status: OK PackageFile: RITAN_1.28.0.tar.gz PackageFileSize: 877.8 KiB