Package: RLMM Version: 1.66.0 Command: /Library/Frameworks/R.framework/Resources/bin/R CMD check --install=check:RLMM.install-out.txt --library=/Library/Frameworks/R.framework/Resources/library --no-vignettes --timings RLMM_1.66.0.tar.gz StartedAt: 2024-10-17 11:58:30 -0400 (Thu, 17 Oct 2024) EndedAt: 2024-10-17 11:59:17 -0400 (Thu, 17 Oct 2024) EllapsedTime: 46.8 seconds RetCode: 0 Status: OK CheckDir: RLMM.Rcheck Warnings: 0