Package: RLassoCox Version: 1.12.0 Command: /Library/Frameworks/R.framework/Resources/bin/R CMD build --keep-empty-dirs --no-resave-data RLassoCox StartedAt: 2024-10-17 07:45:49 -0400 (Thu, 17 Oct 2024) EndedAt: 2024-10-17 07:47:21 -0400 (Thu, 17 Oct 2024) EllapsedTime: 91.1 seconds RetCode: 0 Status: OK PackageFile: RLassoCox_1.12.0.tar.gz PackageFileSize: 1.966 MiB