Package: RLassoCox Version: 1.12.0 Command: /home/biocbuild/R/R-beta-2024-04-15_r86425/bin/R CMD build --keep-empty-dirs --no-resave-data RLassoCox StartedAt: 2024-05-09 03:03:49 -0000 (Thu, 09 May 2024) EndedAt: 2024-05-09 03:05:54 -0000 (Thu, 09 May 2024) EllapsedTime: 125.2 seconds RetCode: 0 Status: OK PackageFile: RLassoCox_1.12.0.tar.gz PackageFileSize: 1.993 MiB