Package: RNAAgeCalc Version: 1.16.0 Command: rm -rf RNAAgeCalc.buildbin-libdir && mkdir RNAAgeCalc.buildbin-libdir && /Users/biocbuild/BBS/utils/build-universal.sh RNAAgeCalc_1.16.0.tar.gz /Library/Frameworks/R.framework/Resources/bin/R RNAAgeCalc.buildbin-libdir StartedAt: 2024-10-18 20:22:34 -0400 (Fri, 18 Oct 2024) EndedAt: 2024-10-18 20:23:48 -0400 (Fri, 18 Oct 2024) EllapsedTime: 74.4 seconds RetCode: 0 Status: OK PackageFile: RNAAgeCalc_1.16.0.tgz PackageFileSize: 3.469 MiB