Package: RNAAgeCalc Version: 1.16.0 Command: /Library/Frameworks/R.framework/Resources/bin/R CMD build --keep-empty-dirs --no-resave-data RNAAgeCalc StartedAt: 2024-10-17 07:48:20 -0400 (Thu, 17 Oct 2024) EndedAt: 2024-10-17 07:49:51 -0400 (Thu, 17 Oct 2024) EllapsedTime: 90.2 seconds RetCode: 0 Status: OK PackageFile: RNAAgeCalc_1.16.0.tar.gz PackageFileSize: 3.337 MiB