Package: RNAAgeCalc Version: 1.16.0 Command: /Library/Frameworks/R.framework/Resources/bin/R CMD build --keep-empty-dirs --no-resave-data RNAAgeCalc StartedAt: 2024-06-10 03:37:09 -0400 (Mon, 10 Jun 2024) EndedAt: 2024-06-10 03:39:09 -0400 (Mon, 10 Jun 2024) EllapsedTime: 119.7 seconds RetCode: 0 Status: OK PackageFile: RNAAgeCalc_1.16.0.tar.gz PackageFileSize: 3.337 MiB