Package: RNAAgeCalc Version: 1.16.0 Command: /home/biocbuild/R/R-beta-2024-04-15_r86425/bin/R CMD check --install=check:RNAAgeCalc.install-out.txt --library=/home/biocbuild/R/R-beta-2024-04-15_r86425/site-library --no-vignettes --timings RNAAgeCalc_1.16.0.tar.gz StartedAt: 2024-05-09 11:17:00 -0000 (Thu, 09 May 2024) EndedAt: 2024-05-09 11:24:24 -0000 (Thu, 09 May 2024) EllapsedTime: 444.8 seconds RetCode: 0 Status: OK CheckDir: RNAAgeCalc.Rcheck Warnings: 0