Package: RNAAgeCalc Version: 1.16.0 Command: rm -rf RNAAgeCalc.buildbin-libdir && mkdir RNAAgeCalc.buildbin-libdir && /Users/biocbuild/BBS/utils/build-universal.sh RNAAgeCalc_1.16.0.tar.gz /Library/Frameworks/R.framework/Resources/bin/R RNAAgeCalc.buildbin-libdir StartedAt: 2024-10-17 17:01:10 -0400 (Thu, 17 Oct 2024) EndedAt: 2024-10-17 17:03:09 -0400 (Thu, 17 Oct 2024) EllapsedTime: 119.5 seconds RetCode: 0 Status: OK PackageFile: RNAAgeCalc_1.16.0.tgz PackageFileSize: 3.469 MiB