Package: RNAAgeCalc Version: 1.16.0 Command: /Library/Frameworks/R.framework/Resources/bin/R CMD build --keep-empty-dirs --no-resave-data RNAAgeCalc StartedAt: 2024-10-16 22:39:34 -0400 (Wed, 16 Oct 2024) EndedAt: 2024-10-16 22:42:13 -0400 (Wed, 16 Oct 2024) EllapsedTime: 159.5 seconds RetCode: 0 Status: OK PackageFile: RNAAgeCalc_1.16.0.tar.gz PackageFileSize: 3.337 MiB