Package: RNAdecay Version: 1.24.0 Maintainer: Reed Sorenson MaintainerEmail: reedssorenson at gmail.com git_url: https://git.bioconductor.org/packages/RNAdecay git_branch: RELEASE_3_19 git_last_commit: 63810fd git_last_commit_date: 2024-04-30 11:53:39 -0400 (Tue, 30 Apr 2024)