Package: RNAdecay Version: 1.24.0 Command: rm -rf RNAdecay.buildbin-libdir && mkdir RNAdecay.buildbin-libdir && /Users/biocbuild/BBS/utils/build-universal.sh RNAdecay_1.24.0.tar.gz /Library/Frameworks/R.framework/Resources/bin/R RNAdecay.buildbin-libdir StartedAt: 2024-10-17 17:01:10 -0400 (Thu, 17 Oct 2024) EndedAt: 2024-10-17 17:16:31 -0400 (Thu, 17 Oct 2024) EllapsedTime: 921.5 seconds RetCode: 0 Status: OK PackageFile: RNAdecay_1.24.0.tgz PackageFileSize: 5.944 MiB