Package: RNAdecay Version: 1.24.0 Command: /home/biocbuild/bbs-3.19-bioc/R/bin/R CMD build --keep-empty-dirs --no-resave-data RNAdecay StartedAt: 2024-10-16 20:29:20 -0400 (Wed, 16 Oct 2024) EndedAt: 2024-10-16 20:39:18 -0400 (Wed, 16 Oct 2024) EllapsedTime: 597.6 seconds RetCode: 0 Status: OK PackageFile: RNAdecay_1.24.0.tar.gz PackageFileSize: 2.707 MiB