Package: RNAdecay Version: 1.24.0 Command: F:\biocbuild\bbs-3.19-bioc\R\bin\R.exe CMD INSTALL RNAdecay StartedAt: 2024-06-26 15:47:45 -0400 (Wed, 26 Jun 2024) EndedAt: 2024-06-26 15:56:17 -0400 (Wed, 26 Jun 2024) EllapsedTime: 511.6 seconds RetCode: 0 Status: OK