Package: RNAmodR.AlkAnilineSeq Version: 1.18.0 Command: F:\biocbuild\bbs-3.19-bioc\R\bin\R.exe CMD check --no-multiarch --install=check:RNAmodR.AlkAnilineSeq.install-out.txt --library=F:\biocbuild\bbs-3.19-bioc\R\library --no-vignettes --timings RNAmodR.AlkAnilineSeq_1.18.0.tar.gz StartedAt: 2024-06-27 05:31:51 -0400 (Thu, 27 Jun 2024) EndedAt: 2024-06-27 05:40:52 -0400 (Thu, 27 Jun 2024) EllapsedTime: 540.9 seconds RetCode: 0 Status: OK CheckDir: RNAmodR.AlkAnilineSeq.Rcheck Warnings: 0