Package: ROC Version: 1.80.0 Command: /Library/Frameworks/R.framework/Resources/bin/R CMD build --keep-empty-dirs --no-resave-data ROC StartedAt: 2024-10-17 07:58:56 -0400 (Thu, 17 Oct 2024) EndedAt: 2024-10-17 07:59:04 -0400 (Thu, 17 Oct 2024) EllapsedTime: 7.9 seconds RetCode: 0 Status: OK PackageFile: ROC_1.80.0.tar.gz PackageFileSize: 250.8 KiB