Package: ROC Version: 1.80.0 Command: /Library/Frameworks/R.framework/Resources/bin/R CMD check --install=check:ROC.install-out.txt --library=/Library/Frameworks/R.framework/Resources/library --no-vignettes --timings ROC_1.80.0.tar.gz StartedAt: 2024-10-17 12:08:35 -0400 (Thu, 17 Oct 2024) EndedAt: 2024-10-17 12:09:23 -0400 (Thu, 17 Oct 2024) EllapsedTime: 47.7 seconds RetCode: 0 Status: OK CheckDir: ROC.Rcheck Warnings: 0