Package: ROC Version: 1.80.0 Command: /home/biocbuild/bbs-3.19-bioc/R/bin/R CMD build --keep-empty-dirs --no-resave-data ROC StartedAt: 2024-10-16 20:31:54 -0400 (Wed, 16 Oct 2024) EndedAt: 2024-10-16 20:31:59 -0400 (Wed, 16 Oct 2024) EllapsedTime: 5.0 seconds RetCode: 0 Status: OK PackageFile: ROC_1.80.0.tar.gz PackageFileSize: 251.1 KiB