Package: ROC Version: 1.80.0 Command: E:\biocbuild\bbs-3.19-bioc\R\bin\R.exe CMD INSTALL ROC StartedAt: 2024-10-16 16:05:30 -0400 (Wed, 16 Oct 2024) EndedAt: 2024-10-16 16:07:42 -0400 (Wed, 16 Oct 2024) EllapsedTime: 131.1 seconds RetCode: 0 Status: OK