Package: RPA Version: 1.60.0 Command: /Library/Frameworks/R.framework/Resources/bin/R CMD build --keep-empty-dirs --no-resave-data RPA StartedAt: 2024-06-09 17:58:52 -0400 (Sun, 09 Jun 2024) EndedAt: 2024-06-09 17:59:17 -0400 (Sun, 09 Jun 2024) EllapsedTime: 24.8 seconds RetCode: 0 Status: OK PackageFile: RPA_1.60.0.tar.gz PackageFileSize: 260.5 KiB