Package: RPA Version: 1.60.0 Command: /Library/Frameworks/R.framework/Resources/bin/R CMD build --keep-empty-dirs --no-resave-data RPA StartedAt: 2024-10-16 22:44:25 -0400 (Wed, 16 Oct 2024) EndedAt: 2024-10-16 22:45:23 -0400 (Wed, 16 Oct 2024) EllapsedTime: 58.3 seconds RetCode: 0 Status: OK PackageFile: RPA_1.60.0.tar.gz PackageFileSize: 260.5 KiB