Package: RPA Version: 1.60.0 Command: /Library/Frameworks/R.framework/Resources/bin/R CMD check --install=check:RPA.install-out.txt --library=/Library/Frameworks/R.framework/Resources/library --no-vignettes --timings RPA_1.60.0.tar.gz StartedAt: 2024-10-17 12:10:34 -0400 (Thu, 17 Oct 2024) EndedAt: 2024-10-17 12:16:17 -0400 (Thu, 17 Oct 2024) EllapsedTime: 343.8 seconds RetCode: 0 Status: OK CheckDir: RPA.Rcheck Warnings: 0