Package: RPA Version: 1.60.0 Command: rm -rf RPA.buildbin-libdir && mkdir RPA.buildbin-libdir && E:\biocbuild\bbs-3.19-bioc\R\bin\R.exe CMD INSTALL --build --library=RPA.buildbin-libdir RPA_1.60.0.tar.gz StartedAt: 2024-10-17 08:31:43 -0400 (Thu, 17 Oct 2024) EndedAt: 2024-10-17 08:32:18 -0400 (Thu, 17 Oct 2024) EllapsedTime: 35.5 seconds RetCode: 0 Status: OK PackageFile: RPA_1.60.0.zip PackageFileSize: 393.5 KiB