Package: RRHO Version: 1.44.0 Command: /home/biocbuild/R/R-beta-2024-04-15_r86425/bin/R CMD build --keep-empty-dirs --no-resave-data RRHO StartedAt: 2024-05-09 03:11:19 -0000 (Thu, 09 May 2024) EndedAt: 2024-05-09 03:11:26 -0000 (Thu, 09 May 2024) EllapsedTime: 7.0 seconds RetCode: 0 Status: OK PackageFile: RRHO_1.44.0.tar.gz PackageFileSize: 707.2 KiB