Package: RTCGAToolbox Version: 2.34.0 Command: /Library/Frameworks/R.framework/Resources/bin/R CMD check --install=check:RTCGAToolbox.install-out.txt --library=/Library/Frameworks/R.framework/Resources/library --no-vignettes --timings RTCGAToolbox_2.34.0.tar.gz StartedAt: 2024-10-18 10:24:23 -0400 (Fri, 18 Oct 2024) EndedAt: 2024-10-18 10:28:18 -0400 (Fri, 18 Oct 2024) EllapsedTime: 235.3 seconds RetCode: 0 Status: OK CheckDir: RTCGAToolbox.Rcheck Warnings: 0